BEGIN:VCALENDAR
VERSION:2.0
PRODID:-//UAHT - ECPv6.15.20//NONSGML v1.0//EN
CALSCALE:GREGORIAN
METHOD:PUBLISH
X-ORIGINAL-URL:https://uaht.org
X-WR-CALDESC:Events for UAHT
REFRESH-INTERVAL;VALUE=DURATION:PT1H
X-Robots-Tag:noindex
X-PUBLISHED-TTL:PT1H
BEGIN:VTIMEZONE
TZID:America/North_Dakota/Center
BEGIN:DAYLIGHT
TZOFFSETFROM:-0600
TZOFFSETTO:-0500
TZNAME:CDT
DTSTART:20200308T080000
END:DAYLIGHT
BEGIN:STANDARD
TZOFFSETFROM:-0500
TZOFFSETTO:-0600
TZNAME:CST
DTSTART:20201101T070000
END:STANDARD
BEGIN:DAYLIGHT
TZOFFSETFROM:-0600
TZOFFSETTO:-0500
TZNAME:CDT
DTSTART:20210314T080000
END:DAYLIGHT
BEGIN:STANDARD
TZOFFSETFROM:-0500
TZOFFSETTO:-0600
TZNAME:CST
DTSTART:20211107T070000
END:STANDARD
BEGIN:DAYLIGHT
TZOFFSETFROM:-0600
TZOFFSETTO:-0500
TZNAME:CDT
DTSTART:20220313T080000
END:DAYLIGHT
BEGIN:STANDARD
TZOFFSETFROM:-0500
TZOFFSETTO:-0600
TZNAME:CST
DTSTART:20221106T070000
END:STANDARD
END:VTIMEZONE
BEGIN:VEVENT
DTSTART;TZID=America/North_Dakota/Center:20211021T120000
DTEND;TZID=America/North_Dakota/Center:20211021T133000
DTSTAMP:20260424T163849
CREATED:20211019T144016Z
LAST-MODIFIED:20211019T144833Z
UID:15827-1634817600-1634823000@uaht.org
SUMMARY:How to Identify and Respond to Human Trafficking for Social Service Providers
DESCRIPTION:This training fulfills state requirements for human trafficking training and qualifies for 1 hour of CEU with NASW. \nRegister for this FREE virtual training: \nOctober 21 – https://us06web.zoom.us/meeting/register/tZAud-yrrTMqGNR_6d0X7J5Bl6dkos5Ba6p9\nNovember 16 – https://us06web.zoom.us/meeting/register/tZMsc-msrDIrEtWtx5Fs2osR_F_JznO6oNfk
URL:https://uaht.org/event/human-trafficking-training-for-healthcare-providers/2021-10-21/
LOCATION:webinar\, https://us06web.zoom.us/meeting/register/tZYvd-ihrDkoHtfLXGk5375v4wdTefh1fgln
ORGANIZER;CN="United Against Human Trafficking":MAILTO:contact@uaht.org
END:VEVENT
END:VCALENDAR