BEGIN:VCALENDAR
VERSION:2.0
PRODID:-//UAHT - ECPv6.15.20//NONSGML v1.0//EN
CALSCALE:GREGORIAN
METHOD:PUBLISH
X-WR-CALNAME:UAHT
X-ORIGINAL-URL:https://uaht.org
X-WR-CALDESC:Events for UAHT
REFRESH-INTERVAL;VALUE=DURATION:PT1H
X-Robots-Tag:noindex
X-PUBLISHED-TTL:PT1H
BEGIN:VTIMEZONE
TZID:America/North_Dakota/Center
BEGIN:DAYLIGHT
TZOFFSETFROM:-0600
TZOFFSETTO:-0500
TZNAME:CDT
DTSTART:20210314T080000
END:DAYLIGHT
BEGIN:STANDARD
TZOFFSETFROM:-0500
TZOFFSETTO:-0600
TZNAME:CST
DTSTART:20211107T070000
END:STANDARD
BEGIN:DAYLIGHT
TZOFFSETFROM:-0600
TZOFFSETTO:-0500
TZNAME:CDT
DTSTART:20220313T080000
END:DAYLIGHT
BEGIN:STANDARD
TZOFFSETFROM:-0500
TZOFFSETTO:-0600
TZNAME:CST
DTSTART:20221106T070000
END:STANDARD
BEGIN:DAYLIGHT
TZOFFSETFROM:-0600
TZOFFSETTO:-0500
TZNAME:CDT
DTSTART:20230312T080000
END:DAYLIGHT
BEGIN:STANDARD
TZOFFSETFROM:-0500
TZOFFSETTO:-0600
TZNAME:CST
DTSTART:20231105T070000
END:STANDARD
END:VTIMEZONE
BEGIN:VEVENT
DTSTART;TZID=America/North_Dakota/Center:20220621T190000
DTEND;TZID=America/North_Dakota/Center:20220621T203000
DTSTAMP:20260419T132800
CREATED:20220614T153610Z
LAST-MODIFIED:20220614T155151Z
UID:16907-1655838000-1655843400@uaht.org
SUMMARY:"Truffle Sauce" Private Screening
DESCRIPTION:In partnership with IYO Visuals\, The Landing\, Twelve11 and Faith Collaborative – We invite you and your networks to the screening of Truffle Sauce. Truffle Sauce is a coming-of-age drama short that examines how trauma presents itself when unhealed through the lens of a misguided 25-year-old college student trying to escape the grips of human trafficking by selling truffle sauce. \nFollowing the 20-minute short film\, there will be an engaging panel discussion between local anti-trafficking non-profits and activists.
URL:https://uaht.org/event/truffle-sauce-private-screening-2/
LOCATION:Match Box Theater\, 3400 Main Street\, Houston\, 77002
ORGANIZER;CN="United Against Human Trafficking":MAILTO:contact@uaht.org
END:VEVENT
END:VCALENDAR