BEGIN:VCALENDAR
VERSION:2.0
PRODID:-//UAHT - ECPv6.15.20//NONSGML v1.0//EN
CALSCALE:GREGORIAN
METHOD:PUBLISH
X-WR-CALNAME:UAHT
X-ORIGINAL-URL:https://uaht.org
X-WR-CALDESC:Events for UAHT
REFRESH-INTERVAL;VALUE=DURATION:PT1H
X-Robots-Tag:noindex
X-PUBLISHED-TTL:PT1H
BEGIN:VTIMEZONE
TZID:America/North_Dakota/Center
BEGIN:DAYLIGHT
TZOFFSETFROM:-0600
TZOFFSETTO:-0500
TZNAME:CDT
DTSTART:20220313T080000
END:DAYLIGHT
BEGIN:STANDARD
TZOFFSETFROM:-0500
TZOFFSETTO:-0600
TZNAME:CST
DTSTART:20221106T070000
END:STANDARD
BEGIN:DAYLIGHT
TZOFFSETFROM:-0600
TZOFFSETTO:-0500
TZNAME:CDT
DTSTART:20230312T080000
END:DAYLIGHT
BEGIN:STANDARD
TZOFFSETFROM:-0500
TZOFFSETTO:-0600
TZNAME:CST
DTSTART:20231105T070000
END:STANDARD
BEGIN:DAYLIGHT
TZOFFSETFROM:-0600
TZOFFSETTO:-0500
TZNAME:CDT
DTSTART:20240310T080000
END:DAYLIGHT
BEGIN:STANDARD
TZOFFSETFROM:-0500
TZOFFSETTO:-0600
TZNAME:CST
DTSTART:20241103T070000
END:STANDARD
END:VTIMEZONE
BEGIN:VEVENT
DTSTART;TZID=America/North_Dakota/Center:20230131T204500
DTEND;TZID=America/North_Dakota/Center:20230131T214500
DTSTAMP:20260419T072559
CREATED:20230110T144214Z
LAST-MODIFIED:20230110T144214Z
UID:17525-1675197900-1675201500@uaht.org
SUMMARY:Human Trafficking\, What Needs To Change with Eileen Dong
DESCRIPTION:RSVP to HopePyxGlobal@gmail.com
URL:https://uaht.org/event/human-trafficking-what-needs-to-change-with-eileen-dong/
LOCATION:virtual
END:VEVENT
BEGIN:VEVENT
DTSTART;TZID=America/North_Dakota/Center:20230125T204500
DTEND;TZID=America/North_Dakota/Center:20230125T214500
DTSTAMP:20260419T072559
CREATED:20230110T144109Z
LAST-MODIFIED:20230110T144109Z
UID:17523-1674679500-1674683100@uaht.org
SUMMARY:Child Sex Trafficking\, Am I Crazy? with Mary Knight
DESCRIPTION:Watch the Premiere Here \nThe Ms. Texas Show is a voice of hope for #victims #survivors\, advocates\, community leaders against #genderbasedviolence to share their stories and resources. We started with showcasing life in Texas. Today we are impacting lives in Texas\, nationwide and internationally. \n\nUnder our segment “Military-Time”: We run this segment in partnership with the National Veterans Chamber of Commerce. We invite #Military and #Veterans who would like to share experiences during and after their military service. If you have overcome traumatic events and are now ready to help others\, join us.\n\nUnder our Beauty segment: We invite fellow pageants (winners and contestants)\, artists (musicians\, actors\, models and dancers)\, last but not least\, our survivor leaders from family violence\, sex trafficking\, sexual assault\, stalking\, and other traumatic events\, who are ambassadors for these causes to share their lives and the impact they have made.\n\nTo become a guest on our show\, email: MsUSATexas@gmail.com\n\n\nAbout Mary:\nAs a clinical social worker Mary Knight\, MSW\, placed over 100 children in adoptive homes\, provided therapeutic services for traumatized children\, and\, by court appointment\, conducted 400 divorce custody evaluations. She has been a full-time writer and filmmaker since 2010. Knight is a survivor of various forms of familial human trafficking\, including child pornography produced by her parents. She tells about the path she took to the great life she now has in her personal documentary “Am I Crazy? My journey to determine if my memories are true.”\nhttps://youtu.be/pzy-Vcl_bZ8
URL:https://uaht.org/event/child-sex-trafficking-am-i-crazy-with-mary-knight/
LOCATION:virtual
END:VEVENT
BEGIN:VEVENT
DTSTART;TZID=America/North_Dakota/Center:20230118T204500
DTEND;TZID=America/North_Dakota/Center:20230118T214500
DTSTAMP:20260419T072559
CREATED:20230110T143930Z
LAST-MODIFIED:20230110T143930Z
UID:17521-1674074700-1674078300@uaht.org
SUMMARY:Human Trafficking\, Root Causes with Jaimee Johnson
DESCRIPTION:Watch the Premiere Here 
URL:https://uaht.org/event/human-trafficking-root-causes-with-jaimee-johnson/
LOCATION:virtual
END:VEVENT
BEGIN:VEVENT
DTSTART;TZID=America/North_Dakota/Center:20230112T090000
DTEND;TZID=America/North_Dakota/Center:20230112T100000
DTSTAMP:20260419T072559
CREATED:20230110T143616Z
LAST-MODIFIED:20230110T143616Z
UID:17519-1673514000-1673517600@uaht.org
SUMMARY:City of Houston & Human Trafficking Survivor Story with Eileen Dong
DESCRIPTION:RSVP to HopePyxGlobal@gmail.com
URL:https://uaht.org/event/city-of-houston-human-trafficking-survivor-story-with-eileen-dong/
LOCATION:virtual
END:VEVENT
BEGIN:VEVENT
DTSTART;TZID=America/North_Dakota/Center:20230111T204500
DTEND;TZID=America/North_Dakota/Center:20230111T214500
DTSTAMP:20260419T072559
CREATED:20230110T143457Z
LAST-MODIFIED:20230110T143457Z
UID:17517-1673469900-1673473500@uaht.org
SUMMARY:Human Trafficking\, Prevention & Healing with Jill Langhus-Griffin
DESCRIPTION:The Ms. Texas Show is a voice of hope for #victims #survivors\, advocates\, community leaders against #genderbasedviolence to share their stories and resources. We started with showcasing life in Texas. Today we are impacting lives in Texas\, nationwide and internationally.\n\nUnder our segment “Military-Time”: We run this segment in partnership with the National Veterans Chamber of Commerce. We invite #Military and #Veterans who would like to share experiences during and after their military service. If you have overcome traumatic events and are now ready to help others\, join us.\n\nUnder our Beauty segment: We invite fellow pageants (winners and contestants)\, artists (musicians\, actors\, models and dancers)\, last but not least\, our survivor leaders from family violence\, sex trafficking\, sexual assault\, stalking\, and other traumatic events\, who are ambassadors for these causes to share their lives and the impact they have made.\n\nTo become a guest on our show\, email: MsUSATexas@gmail.com\n\n\nIf you would like to support victims and survivors of gender-based violence\, make a tax-deductible donation to Hope Pyx Global at www.HopePyxGlobal.org\n\nHope Pyx Global is a 501(c)3 dedicated to people from all backgrounds who are victims and survivors of human trafficking\, domestic violence\, sexual assault\, stalking and other gender-based violence.\n\nFacebook\nInstagram \n\n\nAbout Jill:\n“I am the founder of Liluye\, a global\, 501c3 collaborative community with native workshops committed to empowering people and trafficked survivors. We provide survivors with safe places to work\, viable trades\, living wages\, agency training\, and holistic resources to help them heal\, grow\, and thrive. Our three core pillars are:\n1. prevention (through sensitization/awareness programs)\n2. economic empowerment (providing survivor-made products)\n3. healing (through trauma-informed healing programs).\n\nI’m also a World Pulse Mentoring Coach and Ambassador\, graphic/fashion designer\, and highly sensitive empath\, with over 30 years experience as an executive assistant and creative director. I hold a MA in Publications Design\, and have worked across a broad spectrum of industries.”\n– Jill Langhus-Griffin
URL:https://uaht.org/event/human-trafficking-prevention-healing-with-jill-langhus-griffin/
LOCATION:virtual
END:VEVENT
BEGIN:VEVENT
DTSTART;TZID=America/North_Dakota/Center:20230104T204500
DTEND;TZID=America/North_Dakota/Center:20230104T220000
DTSTAMP:20260419T072559
CREATED:20230109T222433Z
LAST-MODIFIED:20230109T222433Z
UID:17512-1672865100-1672869600@uaht.org
SUMMARY:Sex Trafficking\, Its Implications & Perspectives with Pallabi Ghosh
DESCRIPTION:On Demand: Watch Now 
URL:https://uaht.org/event/sex-trafficking-its-implications-perspectives-with-pallabi-ghosh/
LOCATION:virtual
END:VEVENT
END:VCALENDAR