BEGIN:VCALENDAR
VERSION:2.0
PRODID:-//UAHT - ECPv6.15.20//NONSGML v1.0//EN
CALSCALE:GREGORIAN
METHOD:PUBLISH
X-WR-CALNAME:UAHT
X-ORIGINAL-URL:https://uaht.org
X-WR-CALDESC:Events for UAHT
REFRESH-INTERVAL;VALUE=DURATION:PT1H
X-Robots-Tag:noindex
X-PUBLISHED-TTL:PT1H
BEGIN:VTIMEZONE
TZID:America/North_Dakota/Center
BEGIN:DAYLIGHT
TZOFFSETFROM:-0600
TZOFFSETTO:-0500
TZNAME:CDT
DTSTART:20210314T080000
END:DAYLIGHT
BEGIN:STANDARD
TZOFFSETFROM:-0500
TZOFFSETTO:-0600
TZNAME:CST
DTSTART:20211107T070000
END:STANDARD
BEGIN:DAYLIGHT
TZOFFSETFROM:-0600
TZOFFSETTO:-0500
TZNAME:CDT
DTSTART:20220313T080000
END:DAYLIGHT
BEGIN:STANDARD
TZOFFSETFROM:-0500
TZOFFSETTO:-0600
TZNAME:CST
DTSTART:20221106T070000
END:STANDARD
BEGIN:DAYLIGHT
TZOFFSETFROM:-0600
TZOFFSETTO:-0500
TZNAME:CDT
DTSTART:20230312T080000
END:DAYLIGHT
BEGIN:STANDARD
TZOFFSETFROM:-0500
TZOFFSETTO:-0600
TZNAME:CST
DTSTART:20231105T070000
END:STANDARD
END:VTIMEZONE
BEGIN:VEVENT
DTSTART;TZID=America/North_Dakota/Center:20220107T190000
DTEND;TZID=America/North_Dakota/Center:20220107T200000
DTSTAMP:20260421T232341
CREATED:20211216T180817Z
LAST-MODIFIED:20211216T181239Z
UID:16094-1641582000-1641585600@uaht.org
SUMMARY:Nights of Prayer & Worship - Elijah Rising
DESCRIPTION:Elijah Rising is hosting nights of prayer & worship to come together and minister to the Lord in prayer and intercession. One of the clear next steps we have as an organization is to come back to the foundation of prayer and worship that Elijah Rising was founded on. Since we do have limited building space you must RSVP and we have a limit of 50 people. We plan on making this a regular monthly time for us to enjoy God’s presence together and intercede for justice in our city. \nRegister here: https://www.elijahrising.org/calendar/
URL:https://uaht.org/event/human-trafficking-101-25/2022-01-07/
END:VEVENT
END:VCALENDAR