BEGIN:VCALENDAR
VERSION:2.0
PRODID:-//UAHT - ECPv6.15.20//NONSGML v1.0//EN
CALSCALE:GREGORIAN
METHOD:PUBLISH
X-ORIGINAL-URL:https://uaht.org
X-WR-CALDESC:Events for UAHT
REFRESH-INTERVAL;VALUE=DURATION:PT1H
X-Robots-Tag:noindex
X-PUBLISHED-TTL:PT1H
BEGIN:VTIMEZONE
TZID:America/North_Dakota/Center
BEGIN:DAYLIGHT
TZOFFSETFROM:-0600
TZOFFSETTO:-0500
TZNAME:CDT
DTSTART:20240310T080000
END:DAYLIGHT
BEGIN:STANDARD
TZOFFSETFROM:-0500
TZOFFSETTO:-0600
TZNAME:CST
DTSTART:20241103T070000
END:STANDARD
BEGIN:DAYLIGHT
TZOFFSETFROM:-0600
TZOFFSETTO:-0500
TZNAME:CDT
DTSTART:20250309T080000
END:DAYLIGHT
BEGIN:STANDARD
TZOFFSETFROM:-0500
TZOFFSETTO:-0600
TZNAME:CST
DTSTART:20251102T070000
END:STANDARD
BEGIN:DAYLIGHT
TZOFFSETFROM:-0600
TZOFFSETTO:-0500
TZNAME:CDT
DTSTART:20260308T080000
END:DAYLIGHT
BEGIN:STANDARD
TZOFFSETFROM:-0500
TZOFFSETTO:-0600
TZNAME:CST
DTSTART:20261101T070000
END:STANDARD
END:VTIMEZONE
BEGIN:VEVENT
DTSTART;TZID=America/North_Dakota/Center:20250402T113000
DTEND;TZID=America/North_Dakota/Center:20250402T150000
DTSTAMP:20260421T214204
CREATED:20250305T175402Z
LAST-MODIFIED:20250305T180651Z
UID:18795-1743593400-1743606000@uaht.org
SUMMARY:Radiate Hope - HTX
DESCRIPTION:Join us for UAHT’s Annual Luncheon\, Radiate Hope\, where we honor the incredible strength of survivors and rally together to fight human trafficking. This year is extra special – we’re celebrating 20 years of impact and charting a bold course for the future! \nBe inspired by keynote speaker Jose Alfaro\, a fierce advocate for justice and equality\, and connect with corporate leaders\, small business owners\, and passionate changemakers who refuse to stand by. \nCome ready to be moved\, empowered\, and ignited for action. \nTogether\, we can create a world where freedom prevails! Click the link to find out more about our Sponsorship Levels and grab your ticket today! \nGet Your Ticket
URL:https://uaht.org/event/radiate-hope-htx/
LOCATION:The Junior League of Houston\, 1811 Briar Oaks Lane\, Houston\, 77027
ORGANIZER;CN="United Against Human Trafficking":MAILTO:contact@uaht.org
END:VEVENT
END:VCALENDAR