BEGIN:VCALENDAR
VERSION:2.0
PRODID:-//UAHT - ECPv6.15.20//NONSGML v1.0//EN
CALSCALE:GREGORIAN
METHOD:PUBLISH
X-WR-CALNAME:UAHT
X-ORIGINAL-URL:https://uaht.org
X-WR-CALDESC:Events for UAHT
REFRESH-INTERVAL;VALUE=DURATION:PT1H
X-Robots-Tag:noindex
X-PUBLISHED-TTL:PT1H
BEGIN:VTIMEZONE
TZID:America/North_Dakota/Center
BEGIN:DAYLIGHT
TZOFFSETFROM:-0600
TZOFFSETTO:-0500
TZNAME:CDT
DTSTART:20210314T080000
END:DAYLIGHT
BEGIN:STANDARD
TZOFFSETFROM:-0500
TZOFFSETTO:-0600
TZNAME:CST
DTSTART:20211107T070000
END:STANDARD
BEGIN:DAYLIGHT
TZOFFSETFROM:-0600
TZOFFSETTO:-0500
TZNAME:CDT
DTSTART:20220313T080000
END:DAYLIGHT
BEGIN:STANDARD
TZOFFSETFROM:-0500
TZOFFSETTO:-0600
TZNAME:CST
DTSTART:20221106T070000
END:STANDARD
BEGIN:DAYLIGHT
TZOFFSETFROM:-0600
TZOFFSETTO:-0500
TZNAME:CDT
DTSTART:20230312T080000
END:DAYLIGHT
BEGIN:STANDARD
TZOFFSETFROM:-0500
TZOFFSETTO:-0600
TZNAME:CST
DTSTART:20231105T070000
END:STANDARD
END:VTIMEZONE
BEGIN:VEVENT
DTSTART;TZID=America/North_Dakota/Center:20221129T080000
DTEND;TZID=America/North_Dakota/Center:20221129T150000
DTSTAMP:20260423T084459
CREATED:20221129T192330Z
LAST-MODIFIED:20221109T160920Z
UID:17260-1669708800-1669734000@uaht.org
SUMMARY:Steps To Freedom: Giving Tuesday
DESCRIPTION:Thousands of steps chart a survivor’s path to freedom: meeting with a case manager for the first time\, filling out an apartment application\, finding a ride to therapy\, making a friend at support group\, and so many more. Our vital programs ensure trafficking survivors have a reliable and trained guide on their journey. \nOn Giving Tuesday\, we’re walking 13 miles across Houston to raise $13\,000 to fight human trafficking. \nEvery stride we take and every dollar you donate brings our clients one step closer to freedom. \nWe will begin to walk at our admin office in Gulfton. Together\, we’re make our way through Rice Village and the Third Ward. We’ll complete 13 miles in Greater Eastwood\, the heartbeat of our client programs and celebrate together at the the friendly neighborhood coffee shop\, Coral Sword. \nTentative Schedule: \nFIRST LEG:\n8:00 AM – Depart from 6671 Southwest Freeway and arrive at Evelyn’s Park Conservancy (3.6 miles; 1.5 hours)\nSECOND LEG:\n9:30 AM – Depart from Evelyn’s Park Conservancy and arrive at the Pavilion & Garden at TSU (6.1 miles; 2.5 hours)\nTHIRD LEG:\nNoon – Depart from the Pavilion & Garden at TSU and arrive at Christus St. Mary’s Clinic. (3.8 miles; 1.5 hours)\nFINAL:\n1:30 PM – Depart from Christus St. Mary’s Clinic and arrive at Coral Sword. (1.4 miles; 0.5 hours)\nAFTER PARTY:\nCoral Sword 2:00 PM – 3:00 pm
URL:https://uaht.org/event/giving-tuesday-2022/
LOCATION:TX\, United States
CATEGORIES:Public Awareness
ORGANIZER;CN="United Against Human Trafficking":MAILTO:contact@uaht.org
END:VEVENT
BEGIN:VEVENT
DTSTART;TZID=America/North_Dakota/Center:20221210T100000
DTEND;TZID=America/North_Dakota/Center:20221210T140000
DTSTAMP:20260423T084459
CREATED:20220630T134936Z
LAST-MODIFIED:20221202T193205Z
UID:17230-1670666400-1670680800@uaht.org
SUMMARY:Speakers' Bureau Orientation
DESCRIPTION:Do you want to be part of our nationally-known human trafficking education program? Do you love learning and teaching? Do you excel at public speaking? \nJoin our Speakers’ Bureau! \nAll Speakers’ Bureau volunteers are required to attend orientation\, where you’ll be trained on: \n\nWhat human trafficking is\, where it happens\, and how to stay safe\nHow UAHT fights human trafficking in the community\nHow to be a great public speaker\nHow to answer tough questions\n\nTo learn more and register\, email Sara Breuer at sbreuer@uaht.org
URL:https://uaht.org/event/speakers-bureau-orientation-2022-12-10/
LOCATION:United Against Human Trafficking\, 6671 Southwest Freeway\, Suite 220\, Houston\, TX\, 77074\, United States
CATEGORIES:Education,Volunteer
ORGANIZER;CN="United Against Human Trafficking":MAILTO:contact@uaht.org
END:VEVENT
END:VCALENDAR