BEGIN:VCALENDAR
VERSION:2.0
PRODID:-//UAHT - ECPv6.15.20//NONSGML v1.0//EN
CALSCALE:GREGORIAN
METHOD:PUBLISH
X-ORIGINAL-URL:https://uaht.org
X-WR-CALDESC:Events for UAHT
REFRESH-INTERVAL;VALUE=DURATION:PT1H
X-Robots-Tag:noindex
X-PUBLISHED-TTL:PT1H
BEGIN:VTIMEZONE
TZID:America/North_Dakota/Center
BEGIN:DAYLIGHT
TZOFFSETFROM:-0600
TZOFFSETTO:-0500
TZNAME:CDT
DTSTART:20200308T080000
END:DAYLIGHT
BEGIN:STANDARD
TZOFFSETFROM:-0500
TZOFFSETTO:-0600
TZNAME:CST
DTSTART:20201101T070000
END:STANDARD
BEGIN:DAYLIGHT
TZOFFSETFROM:-0600
TZOFFSETTO:-0500
TZNAME:CDT
DTSTART:20210314T080000
END:DAYLIGHT
BEGIN:STANDARD
TZOFFSETFROM:-0500
TZOFFSETTO:-0600
TZNAME:CST
DTSTART:20211107T070000
END:STANDARD
BEGIN:DAYLIGHT
TZOFFSETFROM:-0600
TZOFFSETTO:-0500
TZNAME:CDT
DTSTART:20220313T080000
END:DAYLIGHT
BEGIN:STANDARD
TZOFFSETFROM:-0500
TZOFFSETTO:-0600
TZNAME:CST
DTSTART:20221106T070000
END:STANDARD
BEGIN:DAYLIGHT
TZOFFSETFROM:-0600
TZOFFSETTO:-0500
TZNAME:CDT
DTSTART:20230312T080000
END:DAYLIGHT
BEGIN:STANDARD
TZOFFSETFROM:-0500
TZOFFSETTO:-0600
TZNAME:CST
DTSTART:20231105T070000
END:STANDARD
END:VTIMEZONE
BEGIN:VEVENT
DTSTART;TZID=America/North_Dakota/Center:20210626T100000
DTEND;TZID=America/North_Dakota/Center:20210626T110000
DTSTAMP:20260424T215507
CREATED:20210430T191548Z
LAST-MODIFIED:20210430T191548Z
UID:15215-1624701600-1624705200@uaht.org
SUMMARY:New Volunteer Outreach
DESCRIPTION:Each month\, we hold a New Volunteer Orientation and hope you’ll be among those joining us! During the orientation\, we’ll go over volunteer policies and procedures; how to sign up for volunteer opportunities on VOMO.com; and the different types of opportunities currently available at UAHT and those that may come open in the near future.
URL:https://uaht.org/event/new-volunteer-outreach-2/
CATEGORIES:Training,Volunteer
ORGANIZER;CN="United Against Human Trafficking":MAILTO:contact@uaht.org
END:VEVENT
BEGIN:VEVENT
DTSTART;TZID=America/North_Dakota/Center:20210626T100000
DTEND;TZID=America/North_Dakota/Center:20210626T110000
DTSTAMP:20260424T215507
CREATED:20210430T191308Z
LAST-MODIFIED:20210430T191308Z
UID:15212-1624701600-1624705200@uaht.org
SUMMARY:New Volunteer Outreach
DESCRIPTION:Each month\, we hold a New Volunteer Orientation and hope you’ll be among those joining us! During the orientation\, we’ll go over volunteer policies and procedures; how to sign up for volunteer opportunities on VOMO.com; and the different types of opportunities currently available at UAHT and those that may come open in the near future.
URL:https://uaht.org/event/new-volunteer-outreach/
CATEGORIES:Training,Volunteer
ORGANIZER;CN="United Against Human Trafficking":MAILTO:contact@uaht.org
END:VEVENT
BEGIN:VEVENT
DTSTART;TZID=America/North_Dakota/Center:20210710T100000
DTEND;TZID=America/North_Dakota/Center:20210710T120000
DTSTAMP:20260424T215507
CREATED:20210430T190934Z
LAST-MODIFIED:20210430T190934Z
UID:15210-1625911200-1625918400@uaht.org
SUMMARY:Volunteer Team Orientation and Training
DESCRIPTION:Become part of our completely volunteer-based (Saturday only) outreach in high human-trafficking areas! This outreach is crucial to reaching trafficking victims and sharing the Human Trafficking National Hotline in places away from their captors or employers.
URL:https://uaht.org/event/volunteer-team-orientation-and-training-3/
LOCATION:Levy Park\, 3801 Eastside St\, Houston\, TX\, 77098\, United States
CATEGORIES:Training,Volunteer
ORGANIZER;CN="United Against Human Trafficking":MAILTO:contact@uaht.org
END:VEVENT
BEGIN:VEVENT
DTSTART;TZID=America/North_Dakota/Center:20220118T100000
DTEND;TZID=America/North_Dakota/Center:20220118T100000
DTSTAMP:20260424T215507
CREATED:20211216T182611Z
LAST-MODIFIED:20211216T195800Z
UID:16131-1642500000-1642500000@uaht.org
SUMMARY:Racial Justice Week: How Latinx Communities are Affected by Human Trafficking
DESCRIPTION:Foreign National victims of trafficking in the U.S. disproportionately come from Central and South America. This presentation will look at data to illustrate how these communities are impacted by trafficking. We’ll also explore factors within US institutions and cultural norms that can facilitate trafficking. Finally\, we’ll share ways to create more equity for marginalized communities. \nRSVP Here: https://us06web.zoom.us/meeting/register/tZMscOyqrT0iG9X2pde4EtDUKICOIl9QO_xi
URL:https://uaht.org/event/racial-justice-week-how-latinx-communities-are-affected-by-human-trafficking/
LOCATION:TX\, United States
CATEGORIES:Education,Houston Rescue and Restore Coalition,Training
ORGANIZER;CN="United Against Human Trafficking":MAILTO:contact@uaht.org
END:VEVENT
BEGIN:VEVENT
DTSTART;TZID=America/North_Dakota/Center:20220120T150000
DTEND;TZID=America/North_Dakota/Center:20220120T150000
DTSTAMP:20260424T215507
CREATED:20211216T182823Z
LAST-MODIFIED:20211216T195821Z
UID:16135-1642690800-1642690800@uaht.org
SUMMARY:Racial Justice Week: How Indigenous Communities Are Affected by Human Trafficking
DESCRIPTION:We’ll discuss the historical context of exploitation of indigenous people\, what exploitation looks like today\, and institutionalized racism that causes vulnerability to trafficking. We’ll conclude with a discussion of how we can advocate for indigenous communities. \nRSVP Here: https://us06web.zoom.us/meeting/register/tZYocOmqrDMuE9xGrnRT-SSmAr_GvMyZZQpd
URL:https://uaht.org/event/racial-justice-week-how-indigenous-communities-are-affected-by-human-trafficking/
LOCATION:TX\, United States
CATEGORIES:Education,Houston Rescue and Restore Coalition,Training
ORGANIZER;CN="United Against Human Trafficking":MAILTO:contact@uaht.org
END:VEVENT
BEGIN:VEVENT
DTSTART;TZID=America/North_Dakota/Center:20220122T090000
DTEND;TZID=America/North_Dakota/Center:20220122T120000
DTSTAMP:20260424T215507
CREATED:20211216T183414Z
LAST-MODIFIED:20211216T183439Z
UID:16142-1642842000-1642852800@uaht.org
SUMMARY:Volunteer Training - The Landing
DESCRIPTION:Interested in becoming a Landing volunteer? Join us for a volunteer training and take the next steps to get involved! \nWe will cover the basics of human trafficking\, trauma-informed care\, cultural competency\, and specific volunteer roles and policies. Sign up below to reserve your spot! \nNeed to know:\nLight breakfast & coffee will be provided. Dress comfortably. Park in any spot around The Landing Drop-In Center building or in the parking garage. Training will start promptly at 9 AM. Please be on time! \nRSVP Here: https://app.vomo.org/project/volunteertraining
URL:https://uaht.org/event/volunteer-training-the-landing/
LOCATION:The Landing\, 9894 Bissonnet Street Suite #605\, Houston\, TX\, 77036\, United States
CATEGORIES:Training,Volunteer
END:VEVENT
BEGIN:VEVENT
DTSTART;TZID=America/North_Dakota/Center:20220514T140000
DTEND;TZID=America/North_Dakota/Center:20220514T153000
DTSTAMP:20260424T215507
CREATED:20220328T180036Z
LAST-MODIFIED:20220328T180036Z
UID:16727-1652536800-1652542200@uaht.org
SUMMARY:Cookie Decorating Workshop & Fair Trade 101
DESCRIPTION:Join us for an afternoon of fun cookie decorating\, while learning about Fair Trade products and how our conscious consumption leads to a better\, safer world. Collaboratively hosted by A 2nd Cup and United Against Human Trafficking. \nWorkshop Includes: \n\nA cookie decorating kit for each participant\nTake-home recipes for your own fair trade baking products\nAn insightful presentation about Fair Trade and how to use our dollars consciously\n\nSingle Kit: $10\nFamily Kit: $35
URL:https://uaht.org/event/cookie-decorating-workshop-fair-trade-101/
LOCATION:A 2nd Cup\, 4928 Fulton Street Suite A\, Houston\, 77009
CATEGORIES:Education,Training,Workshop
ATTACH;FMTTYPE=image/png:https://uaht.org/wp-content/uploads/2022/03/Cookie-Decorating.png
ORGANIZER;CN="United Against Human Trafficking":MAILTO:contact@uaht.org
END:VEVENT
END:VCALENDAR