BEGIN:VCALENDAR
VERSION:2.0
PRODID:-//UAHT - ECPv6.15.20//NONSGML v1.0//EN
CALSCALE:GREGORIAN
METHOD:PUBLISH
X-ORIGINAL-URL:https://uaht.org
X-WR-CALDESC:Events for UAHT
REFRESH-INTERVAL;VALUE=DURATION:PT1H
X-Robots-Tag:noindex
X-PUBLISHED-TTL:PT1H
BEGIN:VTIMEZONE
TZID:America/North_Dakota/Center
BEGIN:DAYLIGHT
TZOFFSETFROM:-0600
TZOFFSETTO:-0500
TZNAME:CDT
DTSTART:20220313T080000
END:DAYLIGHT
BEGIN:STANDARD
TZOFFSETFROM:-0500
TZOFFSETTO:-0600
TZNAME:CST
DTSTART:20221106T070000
END:STANDARD
BEGIN:DAYLIGHT
TZOFFSETFROM:-0600
TZOFFSETTO:-0500
TZNAME:CDT
DTSTART:20230312T080000
END:DAYLIGHT
BEGIN:STANDARD
TZOFFSETFROM:-0500
TZOFFSETTO:-0600
TZNAME:CST
DTSTART:20231105T070000
END:STANDARD
BEGIN:DAYLIGHT
TZOFFSETFROM:-0600
TZOFFSETTO:-0500
TZNAME:CDT
DTSTART:20240310T080000
END:DAYLIGHT
BEGIN:STANDARD
TZOFFSETFROM:-0500
TZOFFSETTO:-0600
TZNAME:CST
DTSTART:20241103T070000
END:STANDARD
END:VTIMEZONE
BEGIN:VEVENT
DTSTART;TZID=America/North_Dakota/Center:20230114T100000
DTEND;TZID=America/North_Dakota/Center:20230114T140000
DTSTAMP:20260425T102530
CREATED:20230109T200637Z
LAST-MODIFIED:20230109T200705Z
UID:17500-1673690400-1673704800@uaht.org
SUMMARY:Volunteer Orientation and Training - Hands of Justice
DESCRIPTION:For those interested in volunteering at the Hands of Justice Economic Empowerment and Resource Center\, this 4 hour training is mandatory. Come learn about Human Trafficking\, hear from Survivors and learn how to get involved. \nRSVP Here \nPlease enter Building B through the back entrance.
URL:https://uaht.org/event/volunteer-orientation-and-training-hands-of-justice/
LOCATION:The ERC\, 100 Commercial Cir\, Conroe\, 77304
CATEGORIES:Education,Volunteer
ORGANIZER;CN="Hands of Justice":MAILTO:handsofjustice107.14@gmail.com
END:VEVENT
BEGIN:VEVENT
DTSTART;TZID=America/North_Dakota/Center:20230114T180000
DTEND;TZID=America/North_Dakota/Center:20230114T210000
DTSTAMP:20260425T102530
CREATED:20230109T195540Z
LAST-MODIFIED:20230109T195540Z
UID:17485-1673719200-1673730000@uaht.org
SUMMARY:Finding Diamonds in the Darkness
DESCRIPTION:She survived! Our Diamonds and advocates will take us on a deep dive into the chilling reality of sexual exploitation in our own community as they share their firsthand experiences dealing with this modern-day slavery.\nProvidence Outreach Ministries (POM) visits some of the darkest venues in our community to search out and provide a lifeline for women who have become ensnared in the vile industry of sexual exploitation. Join us as our Diamonds share their stories of emancipation and the journeys they took with POM out of the darkness and into a whole new life.\nCome learn about POM’s efforts to raise awareness in our community and find out how you can get involved in putting a stop to this slave trade.\nThe evening will include dinner\, a silent auction and several guest speakers\, including our Diamonds (survivors)\, Galveston County DA Jack Roady\, and advocate Stephanie Clawson.\nDoors open at 5:30 pm. Dinner will be served at 6:15 pm.\nDress code for the evening is business casual. \nRSVP Here
URL:https://uaht.org/event/finding-diamonds-in-the-darkness/
LOCATION:Gateway Community Church\, 760 Clear Lake Blvd.\, Webster\, 77598
CATEGORIES:Education,Public Awareness
END:VEVENT
BEGIN:VEVENT
DTSTART;TZID=America/North_Dakota/Center:20230116T100000
DTEND;TZID=America/North_Dakota/Center:20230116T110000
DTSTAMP:20260425T102530
CREATED:20230105T152708Z
LAST-MODIFIED:20230105T152708Z
UID:17446-1673863200-1673866800@uaht.org
SUMMARY:SAVE: Different Types of Pimps
DESCRIPTION:There are many different types of pimps and traffickers who employ a different set of manipulative tactics to gain control of their victims. Please join Programs Manager\, Kaitlynn Frey\, as she discusses how to identify pimps and the strategies they use. \nRegister for Free Here
URL:https://uaht.org/event/save-different-types-of-pimps/
LOCATION:virtual
CATEGORIES:Education,Public Awareness
ORGANIZER;CN="Crime Stoppers of Houston":MAILTO:phollek@crime-stoppers.org
END:VEVENT
BEGIN:VEVENT
DTSTART;TZID=America/North_Dakota/Center:20230117T110000
DTEND;TZID=America/North_Dakota/Center:20230117T120000
DTSTAMP:20260425T102530
CREATED:20230105T152824Z
LAST-MODIFIED:20230105T152824Z
UID:17448-1673953200-1673956800@uaht.org
SUMMARY:SCI: Cyber Safety & Human Trafficking
DESCRIPTION:There is an inseparable link between Human Trafficking and the Internet. This presentation highlights the nexus between pornography\, trafficking\, and grooming techniques used by predators. Gain an understanding through examples of direct messages used to lure students away from their homes\, and most importantly how to have the uneasy but necessary conversations with your student. Thank you to Demand Disruption and Dr. Nissi Hamilton for partnering with us to provide valuable videos throughout this presentation! \nRegister for Free Here
URL:https://uaht.org/event/sci-cyber-safety-human-trafficking/
LOCATION:virtual
CATEGORIES:Education,Public Awareness
ORGANIZER;CN="Crime Stoppers of Houston":MAILTO:phollek@crime-stoppers.org
END:VEVENT
BEGIN:VEVENT
DTSTART;TZID=America/North_Dakota/Center:20230118T110000
DTEND;TZID=America/North_Dakota/Center:20230118T120000
DTSTAMP:20260425T102530
CREATED:20230109T195932Z
LAST-MODIFIED:20230109T195932Z
UID:17492-1674039600-1674043200@uaht.org
SUMMARY:Sex Trafficking\, Substance Abuse and HIV Risk Among Males
DESCRIPTION:The facilitator will present research findings on the nexus between sex trafficking of males\, substance abuse and HIV risk\, followed by strategic recommendations to act on the research presented. The event concludes with a Q&A session. \nRSVP Here\n\nThis educational event is brought to the community by—\n\nBob’s House of Hope\, a provider of equine and animal assisted therapy and safe housing for young adult male survivors of sex trafficking\, Miami-based Kristi House’s Bridges to Futures program for girls who have experienced sex trafficking\, giantslayer\, which provides training and technical assistance to prevent violence against boys and men\, and Prism North Texas\, South Central AIDS Education and Training Center\, which provides tailored education\, clinical case consultations\, and technical assistance to healthcare professionals and healthcare organizations.
URL:https://uaht.org/event/sex-trafficking-substance-abuse-and-hiv-risk-among-males/
LOCATION:TX\, United States
CATEGORIES:Education,Public Awareness
END:VEVENT
BEGIN:VEVENT
DTSTART;TZID=America/North_Dakota/Center:20230120T080000
DTEND;TZID=America/North_Dakota/Center:20230120T163000
DTSTAMP:20260425T102530
CREATED:20230109T200946Z
LAST-MODIFIED:20230109T200946Z
UID:17503-1674201600-1674232200@uaht.org
SUMMARY:Human Trafficking Awareness Summit
DESCRIPTION:Come hear Overcomers and Leaders and learn about Human Trafficking on a large scale. You will hear from several guest speakers speak on different areas and learn how to get involved. \nRSVP Here
URL:https://uaht.org/event/human-trafficking-awareness-summit/
LOCATION:The Woodlands United Methodist Church\, 2200 Lake Woodlands Dr\, The Woodlands\, 77380
CATEGORIES:Education,Public Awareness
ORGANIZER;CN="Hands of Justice":MAILTO:handsofjustice107.14@gmail.com
END:VEVENT
BEGIN:VEVENT
DTSTART;TZID=America/North_Dakota/Center:20230121T100000
DTEND;TZID=America/North_Dakota/Center:20230121T133000
DTSTAMP:20260425T102530
CREATED:20230105T153046Z
LAST-MODIFIED:20230105T153046Z
UID:17450-1674295200-1674307800@uaht.org
SUMMARY:Not in My City Awareness Outreach
DESCRIPTION:Not In My City is Unbound Now’s community outreach designed to rally our community to take a stand against human trafficking. Outreach Volunteers are equipped to go out to local businesses to provide them with education and resources about human trafficking. Additionally\, posters with Unbound Now Houston’s 24/7 Crisis Referral Line are strategically placed at these businesses to reach potential victims of human trafficking. \nRegister for Free Here
URL:https://uaht.org/event/not-in-my-city-awareness-outreach/
LOCATION:Unbound Now\, 1635 E Broadway St #113\, Pearland\, 77581
CATEGORIES:Education,Outreach,Public Awareness,Volunteer
END:VEVENT
BEGIN:VEVENT
DTSTART;TZID=America/North_Dakota/Center:20230126T110000
DTEND;TZID=America/North_Dakota/Center:20230126T120000
DTSTAMP:20260425T102530
CREATED:20230109T200112Z
LAST-MODIFIED:20230109T200112Z
UID:17494-1674730800-1674734400@uaht.org
SUMMARY:National Human Trafficking Policy Training
DESCRIPTION:Join Street Grace to learn to engage the legislature to bring further change and discuss ways to go beyond social media posts to stop human trafficking. \nRSVP Here
URL:https://uaht.org/event/national-human-trafficking-policy-training/
LOCATION:virtual
CATEGORIES:Education,Public Awareness
END:VEVENT
BEGIN:VEVENT
DTSTART;TZID=America/North_Dakota/Center:20230126T183000
DTEND;TZID=America/North_Dakota/Center:20230126T203000
DTSTAMP:20260425T102530
CREATED:20220907T154928Z
LAST-MODIFIED:20221214T143530Z
UID:17122-1674757800-1674765000@uaht.org
SUMMARY:Overcomer Open Mic Night
DESCRIPTION:Don’t miss a powerful evening of Overcomer and advocate voices.\nAttend:\nHear the moving stories of anti-trafficking advocates and those who have overcome human trafficking. Through creative avenues like traditional storytelling\, poetry\, spoken word\, or song\, you’ll learn about healing\, humanity\, and what unites us. \nRSVP below! \nPerform:\nAre you part of the world of human trafficking as someone who has lived it\, knows someone who has\, or are part of the movement to end it? Are you a creative person interested in sharing stories through the creative arts? Do you have something you want to express to the community? \nParticipants can share whatever they feel comfortable with and are under no expectation to talk about their exploitation or trauma unless they would like to. \nWho can perform?\nAnyone with experience surrounding human trafficking – whether it be from lived experience or as an advocate. \nHow do I prepare?\nIf you would like support in crafting your piece\, we will hold 4 workshops at the end of 2022 to help you prepare. Each workshop will be focus on a topic: poetry\, storytelling\, spoken word\, and safely sharing your story as someone who has experienced human trafficking. \nAdditional Notes:\nParticipation in this event is solely optional\, and those who decide to participate will not be compensated. If we do charge a fee for the event\, the fee will go towards covering the cost of producing the event. \nLearn More & Sign Up\nCall: (832) 324-2391Email: sbreuer@uaht.org
URL:https://uaht.org/event/overcomer-open-mic-night/
LOCATION:Stageworks Theater\, 10760 Grant Road\, Houston\, TX\, 77070\, United States
CATEGORIES:Education,Public Awareness
ORGANIZER;CN="United Against Human Trafficking":MAILTO:contact@uaht.org
END:VEVENT
BEGIN:VEVENT
DTSTART;TZID=America/North_Dakota/Center:20230128T140000
DTEND;TZID=America/North_Dakota/Center:20230128T160000
DTSTAMP:20260425T102530
CREATED:20230110T144501Z
LAST-MODIFIED:20230110T144501Z
UID:17527-1674914400-1674921600@uaht.org
SUMMARY:Red Sand Walk
DESCRIPTION:Join us for an afternoon of awareness and action\, through a participatory art experience.\n\nRed Sand Project is a participatory artwork created by Molly Gochman that uses sidewalk interventions and earthwork installations to create opportunities for people to question\, connect and take action against vulnerabilities that can lead to human trafficking and exploitation. \nRSVP Here
URL:https://uaht.org/event/red-sand-walk/
LOCATION:A 2nd Cup\, 4928 Fulton Street Suite A\, Houston\, 77009
CATEGORIES:Education,Public Awareness,Volunteer
END:VEVENT
BEGIN:VEVENT
DTSTART;TZID=America/North_Dakota/Center:20230130T100000
DTEND;TZID=America/North_Dakota/Center:20230130T110000
DTSTAMP:20260425T102530
CREATED:20230105T153724Z
LAST-MODIFIED:20230105T153724Z
UID:17457-1675072800-1675076400@uaht.org
SUMMARY:SAVE: Human Trafficking Misconceptions
DESCRIPTION:Did you know the difference between prostitution and human trafficking? There are many misconceptions about Human Trafficking including what it is\, who is involved\, and how to ask for help. Education Specialist\, Teresa Salazar\, will provide information to clearly define what\, when\, how\, and why of Human Trafficking in Texas. \nRegister for Free Here
URL:https://uaht.org/event/save-human-trafficking-misconceptions/
LOCATION:virtual
CATEGORIES:Education,Public Awareness
ORGANIZER;CN="Crime Stoppers of Houston":MAILTO:phollek@crime-stoppers.org
END:VEVENT
END:VCALENDAR