BEGIN:VCALENDAR
VERSION:2.0
PRODID:-//UAHT - ECPv6.15.20//NONSGML v1.0//EN
CALSCALE:GREGORIAN
METHOD:PUBLISH
X-ORIGINAL-URL:https://uaht.org
X-WR-CALDESC:Events for UAHT
REFRESH-INTERVAL;VALUE=DURATION:PT1H
X-Robots-Tag:noindex
X-PUBLISHED-TTL:PT1H
BEGIN:VTIMEZONE
TZID:America/North_Dakota/Center
BEGIN:DAYLIGHT
TZOFFSETFROM:-0600
TZOFFSETTO:-0500
TZNAME:CDT
DTSTART:20220313T080000
END:DAYLIGHT
BEGIN:STANDARD
TZOFFSETFROM:-0500
TZOFFSETTO:-0600
TZNAME:CST
DTSTART:20221106T070000
END:STANDARD
BEGIN:DAYLIGHT
TZOFFSETFROM:-0600
TZOFFSETTO:-0500
TZNAME:CDT
DTSTART:20230312T080000
END:DAYLIGHT
BEGIN:STANDARD
TZOFFSETFROM:-0500
TZOFFSETTO:-0600
TZNAME:CST
DTSTART:20231105T070000
END:STANDARD
BEGIN:DAYLIGHT
TZOFFSETFROM:-0600
TZOFFSETTO:-0500
TZNAME:CDT
DTSTART:20240310T080000
END:DAYLIGHT
BEGIN:STANDARD
TZOFFSETFROM:-0500
TZOFFSETTO:-0600
TZNAME:CST
DTSTART:20241103T070000
END:STANDARD
END:VTIMEZONE
BEGIN:VEVENT
DTSTART;VALUE=DATE:20230109
DTEND;VALUE=DATE:20230116
DTSTAMP:20260424T215517
CREATED:20230109T200429Z
LAST-MODIFIED:20230109T200429Z
UID:17497-1673222400-1673827199@uaht.org
SUMMARY:GRACE's Third Annual Week of Prayer to End Human Trafficking
DESCRIPTION:First Lady Cecilia Abbott announced that the Governor’s Response Against Child Exploitation (GRACE) initiative will host the third annual Week of Prayer to End Human Trafficking from January 9 through January 15\, 2023.\n\nThe statewide interfaith week of prayer coincides with Human Trafficking Prevention Month in the state of Texas and serves as a call to action to the faith-based community to unite in prayer\, learn more about human trafficking\, and discern opportunities to prevent exploitation and support survivors.\n\nGRACE will launch the Week of Prayer to End Human Trafficking through a virtual interfaith event on Monday\, January 9 at 7:00 pm on Facebook. The event will include remarks from the First Lady and Texas Department of Family and Protective Services (DFPS) Commissioner Stephanie Muth\, prayer\, and a panel discussion with faith leaders.\n\n“As an integral part of GRACE’s efforts\, the Week of Prayer to End Human Trafficking brings hope and healing to survivors as we work to stop this horrific crime\,” said First Lady Abbott. “This week\, and every week\, I invite Texans of all faiths to join us in prayer and action to eradicate human trafficking.”\n\n\nDaily Prayer Intentions for the Week of Prayer include:\n\nMonday\, January 9 – Pray for all those currently being exploited to find safety and healing.\nTuesday\, January 10 – Pray for all those who are vulnerable to receive the help\, love\, and support necessary to meet their needs and not fall victim to human trafficking.\nWednesday\, January 11 – Pray for an end to demand and societal factors that normalize exploitation.\nThursday\, January 12 – Pray for protection from online dangers and for caregivers to be equipped to keep their children safe.\nFriday\, January 13 – Pray for Texans to have the courage and skills to speak up and intervene when they see behavior that puts others at risk.\nSaturday\, January 14 – Pray for every child to have access to safe\, supportive mentors and role models.\nSunday\, January 15 – Pray for discernment on the actions you can personally take to prevent human trafficking.\n\n\nLaunched in 2019\, GRACE is a collaboration between the Office of the Texas First Lady\, the Governor’s Child Sex Trafficking Team\, DFPS\, and a diverse group of faith leaders across Texas that works together to develop effective strategies to end human trafficking.\n\nGovernor Abbott officially proclaimed January 2023 to be Human Trafficking Prevention Month in the state of Texas. The Governor also issued a proclamation recognizing January 9-15\, 2023 as the Week of Prayer to End Human Trafficking.\n\nThe First Lady encourages all Texans to wear blue on Wednesday\, January 11 in honor of National Day of Human Trafficking Awareness. Texans can use the hashtag #TXPraysToEndHT on social media to share their support for the Week of Prayer to End Human Trafficking. \nRSVP Here\n\nFaith leaders participating in the kickoff event include:\n\nPastor Jay Abernathy\, Senior Pastor at Faith Baptist Church Woodville\nPastor Mosley Hobson\, Senior Pastor at Greater St. John’s and New Zion Church of God in Christ\, representing the Texas Southwest Ecclesiastical Jurisdiction under the leadership of Bishop P.E. Bryant\nRabbi Neil Blumofe\, Senior Rabbi at Congregation Agudas Achim in Austin\nImam Islam Mossaad\, Imam for North Austin Muslim Community Center\nDr. Gilberto Velez\, M.D.\, Iglesia Cristiana Misericordia\nEvangelist Sophia Strother\, Evangelist\, National Director\, and Vice Chair COGIC IDOE Rapid Response Ministry\nFather James Misko\, Vicar General of the Catholic Diocese of Austin\nDr. Mia K. Wright\, Co-Pastor and Executive Director of Ministry at The Fountain of Praise\, Houston\nSupervisor Sophia Strother\, Facilitator\, Human Trafficking Survivor Leadership Council and Vice Chair\, COGIC IDOE Rapid Response Ministry
URL:https://uaht.org/event/graces-third-annual-week-of-prayer-to-end-human-trafficking/
LOCATION:virtual
CATEGORIES:Public Awareness
END:VEVENT
BEGIN:VEVENT
DTSTART;TZID=America/North_Dakota/Center:20230111T150000
DTEND;TZID=America/North_Dakota/Center:20230111T160000
DTSTAMP:20260424T215517
CREATED:20230110T154209Z
LAST-MODIFIED:20230110T154209Z
UID:17529-1673449200-1673452800@uaht.org
SUMMARY:Town Square with Ernie Manouse
DESCRIPTION:Houston Public Media has invited Minal Patel Davis\, Special Advisor to the Mayor on Human Trafficking and Timeka Walker\, CEO of United Against Human Trafficking\, for an interview on Town Square with Ernie Manouse. Since January 11 is Human Trafficking Awareness Day\, the show wants to educate its listeners on this important topic. The show will discuss what is human trafficking\, how it works\, what can the public do to help\, what does the public need to be aware of\, and the work of United Against Human Trafficking. \nTune in on the radio on 88.7 FM or on Houston Public Media’s website here.
URL:https://uaht.org/event/town-square-with-ernie-manouse/
LOCATION:virtual
ORGANIZER;CN="United Against Human Trafficking":MAILTO:contact@uaht.org
END:VEVENT
BEGIN:VEVENT
DTSTART;TZID=America/North_Dakota/Center:20230111T190000
DTEND;TZID=America/North_Dakota/Center:20230111T203000
DTSTAMP:20260424T215517
CREATED:20230109T201512Z
LAST-MODIFIED:20230109T201512Z
UID:17509-1673463600-1673469000@uaht.org
SUMMARY:Illuminate
DESCRIPTION:A night of prayer and worship over human trafficking. \nRSVP Here
URL:https://uaht.org/event/illuminate/
LOCATION:Bayou City Fellowship\, 1400 Brittmore Rd\, Houston\, 77043
CATEGORIES:Public Awareness
END:VEVENT
BEGIN:VEVENT
DTSTART;TZID=America/North_Dakota/Center:20230111T204500
DTEND;TZID=America/North_Dakota/Center:20230111T214500
DTSTAMP:20260424T215517
CREATED:20230110T143457Z
LAST-MODIFIED:20230110T143457Z
UID:17517-1673469900-1673473500@uaht.org
SUMMARY:Human Trafficking\, Prevention & Healing with Jill Langhus-Griffin
DESCRIPTION:The Ms. Texas Show is a voice of hope for #victims #survivors\, advocates\, community leaders against #genderbasedviolence to share their stories and resources. We started with showcasing life in Texas. Today we are impacting lives in Texas\, nationwide and internationally.\n\nUnder our segment “Military-Time”: We run this segment in partnership with the National Veterans Chamber of Commerce. We invite #Military and #Veterans who would like to share experiences during and after their military service. If you have overcome traumatic events and are now ready to help others\, join us.\n\nUnder our Beauty segment: We invite fellow pageants (winners and contestants)\, artists (musicians\, actors\, models and dancers)\, last but not least\, our survivor leaders from family violence\, sex trafficking\, sexual assault\, stalking\, and other traumatic events\, who are ambassadors for these causes to share their lives and the impact they have made.\n\nTo become a guest on our show\, email: MsUSATexas@gmail.com\n\n\nIf you would like to support victims and survivors of gender-based violence\, make a tax-deductible donation to Hope Pyx Global at www.HopePyxGlobal.org\n\nHope Pyx Global is a 501(c)3 dedicated to people from all backgrounds who are victims and survivors of human trafficking\, domestic violence\, sexual assault\, stalking and other gender-based violence.\n\nFacebook\nInstagram \n\n\nAbout Jill:\n“I am the founder of Liluye\, a global\, 501c3 collaborative community with native workshops committed to empowering people and trafficked survivors. We provide survivors with safe places to work\, viable trades\, living wages\, agency training\, and holistic resources to help them heal\, grow\, and thrive. Our three core pillars are:\n1. prevention (through sensitization/awareness programs)\n2. economic empowerment (providing survivor-made products)\n3. healing (through trauma-informed healing programs).\n\nI’m also a World Pulse Mentoring Coach and Ambassador\, graphic/fashion designer\, and highly sensitive empath\, with over 30 years experience as an executive assistant and creative director. I hold a MA in Publications Design\, and have worked across a broad spectrum of industries.”\n– Jill Langhus-Griffin
URL:https://uaht.org/event/human-trafficking-prevention-healing-with-jill-langhus-griffin/
LOCATION:virtual
END:VEVENT
END:VCALENDAR